BEGIN:VCALENDAR
VERSION:2.0
PRODID:-//GAL - ECPv6.9.0//NONSGML v1.0//EN
CALSCALE:GREGORIAN
METHOD:PUBLISH
X-ORIGINAL-URL:https://galterresabinetiburtine.it
X-WR-CALDESC:Eventi per GAL
REFRESH-INTERVAL;VALUE=DURATION:PT1H
X-Robots-Tag:noindex
X-PUBLISHED-TTL:PT1H
BEGIN:VTIMEZONE
TZID:UTC
BEGIN:STANDARD
TZOFFSETFROM:+0000
TZOFFSETTO:+0000
TZNAME:UTC
DTSTART:20250101T000000
END:STANDARD
END:VTIMEZONE
BEGIN:VEVENT
DTSTART;TZID=UTC:20250128T160000
DTEND;TZID=UTC:20250128T170000
DTSTAMP:20260425T153529
CREATED:20250120T085010Z
LAST-MODIFIED:20250120T085332Z
UID:10000013-1738080000-1738083600@galterresabinetiburtine.it
SUMMARY:Comune di Moricone
DESCRIPTION:Nella Sala dell’ex cinema\, in via Roma n.3\, del Comune di Moricone\, Martedì 28 Gennaio alle ore 16.00\, si presentano le opportunità di investimento per lo sviluppo delle aree rurali legate al Piano di Sviluppo Locale del GAL “Terre Sabine e Tiburtine”  Sono invitati tutti gli imprenditori agricoli\, allevatori\, operatori della ristorazione\, accoglienza e turismo\, associazioni di categoria e tutte le persone interessate a fare impresa sui territori Partecipate numerosi!
URL:https://galterresabinetiburtine.it/evento/1502/
LOCATION:Moricone\, via roma\,3\, moricone\, 00010\, Italy
CATEGORIES:Iniziativa
ATTACH;FMTTYPE=image/png:https://galterresabinetiburtine.it/wp-content/uploads/2025/01/Moricone-1.png
END:VEVENT
END:VCALENDAR