BEGIN:VCALENDAR
VERSION:2.0
PRODID:-//GAL - ECPv6.9.0//NONSGML v1.0//EN
CALSCALE:GREGORIAN
METHOD:PUBLISH
X-WR-CALNAME:GAL
X-ORIGINAL-URL:https://galterresabinetiburtine.it
X-WR-CALDESC:Eventi per GAL
REFRESH-INTERVAL;VALUE=DURATION:PT1H
X-Robots-Tag:noindex
X-PUBLISHED-TTL:PT1H
BEGIN:VTIMEZONE
TZID:UTC
BEGIN:STANDARD
TZOFFSETFROM:+0000
TZOFFSETTO:+0000
TZNAME:UTC
DTSTART:20250101T000000
END:STANDARD
END:VTIMEZONE
BEGIN:VEVENT
DTSTART;TZID=UTC:20250225T170000
DTEND;TZID=UTC:20250225T183000
DTSTAMP:20260425T153704
CREATED:20250214T103630Z
LAST-MODIFIED:20250214T103712Z
UID:10000015-1740502800-1740508200@galterresabinetiburtine.it
SUMMARY:Comune di Tivoli
DESCRIPTION:Nella Sala Consiliare del Comune di Tivoli\, martedì 25 Febbraio alle ore 17.00\, si presentano le opportunità di investimento per lo sviluppo delle aree rurali legate al Piano di Sviluppo Locale del GAL “Terre Sabine e Tiburtine”  Sono invitati tutti gli imprenditori agricoli\, allevatori\, operatori della ristorazione\, accoglienza e turismo\, associazioni di categoria e tutte le persone interessate a fare impresa sui territori Partecipate numerosi!
URL:https://galterresabinetiburtine.it/evento/comune-di-tivoli/
LOCATION:tivoli\, Piazza del Governo\, 1\, Tivoli\, 00019
CATEGORIES:Iniziativa
ATTACH;FMTTYPE=image/png:https://galterresabinetiburtine.it/wp-content/uploads/2025/02/Tivoli.png
END:VEVENT
BEGIN:VEVENT
DTSTART;TZID=UTC:20250327T160000
DTEND;TZID=UTC:20250327T180000
DTSTAMP:20260425T153704
CREATED:20250305T110327Z
LAST-MODIFIED:20250317T105619Z
UID:10000017-1743091200-1743098400@galterresabinetiburtine.it
SUMMARY:Comune di Mentana
DESCRIPTION:Nella Sala Conferenze della Biblioteca Comunale “Carlo Magno” del Comune di Mentana\, giovedì 27 Marzo alle ore 16.00\, si presentano le opportunità di investimento per lo sviluppo delle aree rurali legate al Piano di Sviluppo Locale del GAL “Terre Sabine e Tiburtine” Sono invitati tutti gli imprenditori agricoli\, allevatori\, operatori della ristorazione\, accoglienza e turismo\, associazioni di categoria e tutte le persone interessate a fare impresa sui territori Partecipate numerosi!
URL:https://galterresabinetiburtine.it/evento/comune-di-mentana/
LOCATION:Mentana\, via della rocca 2\, Mentana\, 00013\, Italy
ATTACH;FMTTYPE=image/png:https://galterresabinetiburtine.it/wp-content/uploads/2025/03/Mentana-2.png
END:VEVENT
END:VCALENDAR