BEGIN:VCALENDAR
VERSION:2.0
PRODID:-//GAL - ECPv6.9.0//NONSGML v1.0//EN
CALSCALE:GREGORIAN
METHOD:PUBLISH
X-ORIGINAL-URL:https://galterresabinetiburtine.it
X-WR-CALDESC:Eventi per GAL
REFRESH-INTERVAL;VALUE=DURATION:PT1H
X-Robots-Tag:noindex
X-PUBLISHED-TTL:PT1H
BEGIN:VTIMEZONE
TZID:UTC
BEGIN:STANDARD
TZOFFSETFROM:+0000
TZOFFSETTO:+0000
TZNAME:UTC
DTSTART:20240101T000000
END:STANDARD
END:VTIMEZONE
BEGIN:VEVENT
DTSTART;TZID=UTC:20241203T110000
DTEND;TZID=UTC:20241203T110000
DTSTAMP:20260425T164611
CREATED:20241126T160623Z
LAST-MODIFIED:20241206T104911Z
UID:10000003-1733223600-1733223600@galterresabinetiburtine.it
SUMMARY:Comune di San Gregorio da Sassola - Martedì 3 Dicembre ore 11.00
DESCRIPTION:Si avviano gli incontri nei Comuni del GAL! \nNella Sala Consiliare del Comune di San Gregorio da Sassola\, martedì 3 Dicembre\, si presentano le opportunità di investimento per lo sviluppo delle aree rurali legate al Piano di Sviluppo Locale del GAL “Terre Sabine e Tiburtine” \nSono inviatati tutti gli imprenditori agricoli\, allevatori\, operatori della ristorazione\, accoglienza e turismo\, associazioni di categoria e tutte le persone interessate a fare impresa sui territori\nPartecipate numerosi!
URL:https://galterresabinetiburtine.it/evento/presentazione-delle-opportunita-di-investimento-per-lo-sviluppo-delle-aree-rurali/
LOCATION:San Gregorio da Sassola\, Largo Luigi Sturzo 6 - 00010 San Gregorio Da Sassola (RM)\, San Gregorio da Sassola\, Italy
CATEGORIES:Iniziativa
ATTACH;FMTTYPE=image/png:https://galterresabinetiburtine.it/wp-content/uploads/2024/11/ICONA.png
END:VEVENT
BEGIN:VEVENT
DTSTART;TZID=UTC:20241203T170000
DTEND;TZID=UTC:20241203T170000
DTSTAMP:20260425T164611
CREATED:20241128T101609Z
LAST-MODIFIED:20241206T104852Z
UID:10000004-1733245200-1733245200@galterresabinetiburtine.it
SUMMARY:Comune di Marcellina - Martedì 3 Dicembre ore 17:00
DESCRIPTION:Si avviano gli incontri nei Comuni del GAL!\n\nNella Sala Consiliare del Comune di Marcellina\, martedì 3 Dicembre alle ore 17.00\, si presentano le opportunità di investimento per lo sviluppo delle aree rurali legate al Piano di Sviluppo Locale del GAL "Terre Sabine e Tiburtine"\n\nSono inviatati tutti gli imprenditori agricoli\, allevatori\, operatori della ristorazione\, accoglienza e turismo\, associazioni di categoria e tutte le persone interessate a fare impresa sui territori\nPartecipate numerosi!
URL:https://galterresabinetiburtine.it/evento/martedi-3-dicembre-ore-17-comune-di-marcellina-presentazione-delle-opportunita-di-investimento-per-lo-sviluppo-delle-aree-rurali/
LOCATION:Marcellina\, Piazza Cesare Battisti\, 14\, Marcellina\, Roma\, 00010\, Italy
CATEGORIES:Iniziativa
ATTACH;FMTTYPE=image/png:https://galterresabinetiburtine.it/wp-content/uploads/2024/11/ICONA-marcellina.png
END:VEVENT
BEGIN:VEVENT
DTSTART;TZID=UTC:20241209T150000
DTEND;TZID=UTC:20241209T170000
DTSTAMP:20260425T164611
CREATED:20241203T150643Z
LAST-MODIFIED:20241206T104829Z
UID:10000005-1733756400-1733763600@galterresabinetiburtine.it
SUMMARY:Comune di Palombara Sabina - Lunedì 9 Dicembre ore 15:00
DESCRIPTION:Si avviano gli incontri nei Comuni del GAL!\n\nNella Sala Consiliare del Comune di Palombara Sabina\, lunedì 9 Dicembre alle ore 15.00\, si presentano le opportunità di investimento per lo sviluppo delle aree rurali legate al Piano di Sviluppo Locale del GAL "Terre Sabine e Tiburtine"\n\nSono inviatati tutti gli imprenditori agricoli\, allevatori\, operatori della ristorazione\, accoglienza e turismo\, associazioni di categoria e tutte le persone interessate a fare impresa sui territori\nPartecipate numerosi!
URL:https://galterresabinetiburtine.it/evento/lunedi-9-dicembre-ore-1500-comune-di-palombara-sabina-presentazione-delle-opportunita-di-investimento-per-lo-sviluppo-delle-aree-rurali-copy/
LOCATION:Palombara Sabina\, Piazza Vittorio Veneto\, 12\, Palombara Sabina\, Roma\, 00018\, Italy
CATEGORIES:Iniziativa
ATTACH;FMTTYPE=image/png:https://galterresabinetiburtine.it/wp-content/uploads/2024/12/ICONA.png
END:VEVENT
BEGIN:VEVENT
DTSTART;TZID=UTC:20241210T170000
DTEND;TZID=UTC:20241210T190000
DTSTAMP:20260425T164611
CREATED:20241206T111816Z
LAST-MODIFIED:20241206T112156Z
UID:10000007-1733850000-1733857200@galterresabinetiburtine.it
SUMMARY:Comune di Monteflavio - Martedì 10 Dicembre ore 17:00
DESCRIPTION:  \nSi avviano gli incontri nei Comuni del GAL!\n\nNella Sala del centro Culturale "Giovanni Paolo II"\, martedì 10 Dicembre alle ore 17.00\, si presentano le opportunità di investimento per lo sviluppo delle aree rurali legate al Piano di Sviluppo Locale del GAL "Terre Sabine e Tiburtine"\n\nSono invitati tutti gli imprenditori agricoli\, allevatori\, operatori della ristorazione\, accoglienza e turismo\, associazioni di categoria e tutte le persone interessate a fare impresa sui territori\nPartecipate numerosi!
URL:https://galterresabinetiburtine.it/evento/comune-di-monteflavio-martedi-10-dicembre-ore-1700/
LOCATION:Monteflavio\, Via IV Novembre\, 2/A\, Monteflavio\, 00010\, Italy
CATEGORIES:Iniziativa
ATTACH;FMTTYPE=image/png:https://galterresabinetiburtine.it/wp-content/uploads/2024/12/ICONA-1.png
END:VEVENT
BEGIN:VEVENT
DTSTART;TZID=UTC:20241212T180000
DTEND;TZID=UTC:20241212T190000
DTSTAMP:20260425T164611
CREATED:20241210T133408Z
LAST-MODIFIED:20241210T133408Z
UID:10000008-1734026400-1734030000@galterresabinetiburtine.it
SUMMARY:Comune di Castel Madama - Giovedì 12 Dicembre ore 18:00
DESCRIPTION:  \nSi avviano gli incontri nei Comuni del GAL!\n\nNella Sala Consiliare del Comune di Castel Madama\, giovedì 12 Dicembre alle ore 18.00\, si presentano le opportunità di investimento per lo sviluppo delle aree rurali legate al Piano di Sviluppo Locale del GAL "Terre Sabine e Tiburtine"\n\nSono invitati tutti gli imprenditori agricoli\, allevatori\, operatori della ristorazione\, accoglienza e turismo\, associazioni di categoria e tutte le persone interessate a fare impresa sui territori\nPartecipate numerosi!
URL:https://galterresabinetiburtine.it/evento/comune-di-castel-madama-giovedi-12-dicembre-ore-1800/
LOCATION:castel madama\, Corso Cavour\, 34\, Castel Madama\, Roma\, 00024\, Italy
CATEGORIES:Iniziativa
ATTACH;FMTTYPE=image/png:https://galterresabinetiburtine.it/wp-content/uploads/2024/12/ICONA-4.png
END:VEVENT
BEGIN:VEVENT
DTSTART;TZID=UTC:20241216T150000
DTEND;TZID=UTC:20241216T160000
DTSTAMP:20260425T164611
CREATED:20241212T140818Z
LAST-MODIFIED:20241212T140818Z
UID:10000009-1734361200-1734364800@galterresabinetiburtine.it
SUMMARY:Comune di Nerola - Lunedì 16 Dicembre ore 15:00
DESCRIPTION:  \nSi avviano gli incontri nei Comuni del GAL!\n\nNella Sala Consiliare del Comune di Nerola\, lunedì 16 Dicembre alle ore 15.00\, si presentano le opportunità di investimento per lo sviluppo delle aree rurali legate al Piano di Sviluppo Locale del GAL "Terre Sabine e Tiburtine"\n\nSono invitati tutti gli imprenditori agricoli\, allevatori\, operatori della ristorazione\, accoglienza e turismo\, associazioni di categoria e tutte le persone interessate a fare impresa sui territori\nPartecipate numerosi!
URL:https://galterresabinetiburtine.it/evento/comune-di-nerola/
LOCATION:Nerola\, Piazza San Sebastiano\, Nerola\, italy\, 00017
CATEGORIES:Iniziativa
ATTACH;FMTTYPE=image/png:https://galterresabinetiburtine.it/wp-content/uploads/2024/12/ICONA-appuntamento.png
END:VEVENT
END:VCALENDAR